BEGIN:VCALENDAR
VERSION:2.0
PRODID:-//Continental Fitness Spa Timisoara - ECPv4.8.2//NONSGML v1.0//EN
CALSCALE:GREGORIAN
METHOD:PUBLISH
X-WR-CALNAME:Continental Fitness Spa Timisoara
X-ORIGINAL-URL:https://continental-fitness-spa.ro
X-WR-CALDESC:Events for Continental Fitness Spa Timisoara
BEGIN:VEVENT
DTSTART;TZID=UTC+0:20180320T070000
DTEND;TZID=UTC+0:20180320T200000
DTSTAMP:20260420T045713
CREATED:20180320T093649Z
LAST-MODIFIED:20180320T093649Z
UID:10145-1521529200-1521576000@continental-fitness-spa.ro
SUMMARY:TAE-BO - Marți
DESCRIPTION:		\n							\n						\n				TAE-BO			\n			\n					\n	Conceput in 1976 de Billy Blanks\, Tae Bo este un program de antrenament cardio care combina artele martiale si boxul\, cu miscari de dans. Tae Bo reprezinta\, chiar si astazi\, o metoda de antrenament foarte populara\, in special in randul celor care isi doresc sa scape de kilogramele in plus. \nIn ceea ce priveste beneficiile unui antrenament Tae Bo\, ele sunt multe la numar. Iata unele dintre ele: \n\nAtunci cand aceste antrenamente sunt desfasurate la intensitate mare\, numarul de calorii pe care il poti arde este considerabil\, ajungand pana la 800 de calorii pe ora.\nPrin natura sa\, Tae Bo este un antrenament HIIT si combina antrenamentul cardio cu cel de forta. Astfel\, este\, poate\, unul dintre cele mai eficiente pentru slabit.\nTae Bo te ajuta sa-ti imbunatatesti forta\, dezvolti masa musculara\, flexibilitatea si coordonarea.\nPoti efectua antrenamentele Tae Bo inclusiv in confortul propriei locuinte\, daca nu dispui de timpul sau resursele necesare pentru a merge la sala de fitness.\nDeoarece implica o serie de lovituri\, executate cu mainile sau picioarele\, efectuand Tae Bo vei invata tehnici de aparare care iti vor forma abilitatile necesare de a face fata pericolelor.\nIn timpul unui antrenament Tae Bo vei lucra toate grupele principale de muschi: brate\, umeri\, piept\, fesieri\, muschii abdominali etc.\n\n
URL:https://continental-fitness-spa.ro/event/tae-bo-marti/
LOCATION:Sala 2/3/4
CATEGORIES:Aerobic
ATTACH;FMTTYPE=image/jpeg:https://continental-fitness-spa.ro/wp-content/uploads/2018/03/conti-tae-bo-1.jpg
END:VEVENT
END:VCALENDAR